BEGIN:VCALENDAR
VERSION:2.0
PRODID:-//Pulse Events - ECPv5.8.1//NONSGML v1.0//EN
CALSCALE:GREGORIAN
METHOD:PUBLISH
X-WR-CALNAME:Pulse Events
X-ORIGINAL-URL:https://www.pulsepursuits.co.uk
X-WR-CALDESC:Events for Pulse Events
BEGIN:VTIMEZONE
TZID:Europe/London
BEGIN:DAYLIGHT
TZOFFSETFROM:+0000
TZOFFSETTO:+0100
TZNAME:BST
DTSTART:20200329T010000
END:DAYLIGHT
BEGIN:STANDARD
TZOFFSETFROM:+0100
TZOFFSETTO:+0000
TZNAME:GMT
DTSTART:20201025T010000
END:STANDARD
END:VTIMEZONE
BEGIN:VEVENT
DTSTART;TZID=Europe/London:20200413T100000
DTEND;TZID=Europe/London:20200413T170000
DTSTAMP:20260420T065941
CREATED:20200130T185646Z
LAST-MODIFIED:20200130T185646Z
UID:3646-1586772000-1586797200@www.pulsepursuits.co.uk
SUMMARY:Wyre Forest Easter Bunny Run
DESCRIPTION:Brand new for 2020\, The Wyre Forest Easter Bunny Run\, brought to you by Pulse Events and the team at Forestry England based at Wyre Forest. \nThe event takes place at the Wyre Forest\, Callow Hill Visitor Centre\, near Bewdley. DY14 9XQ\nA 5k route will take you on well used\, waymarked and marshalled tracks and trails\, starting and finishing at the visitor centre. \nThe run starts at 10:00am \nENTRY FEE (Early bird until 14th Feb. Under 16s £6\, Over 16s £10) – Normal price £9 / £13 \nEveryone will receive a pair of bunny ears to wear\, and there’s a funky easter themed medal at the end too! \nThe event is a fun family event\, although you will receive a race number and we will time everyone\, so you can test yourself if you wish. \nFinish goodies and medal for all competitors. \nThe event supports St Richards Hospice . £2 from each entry fee will be donated direct to charity. Participants may make additional voluntary contributions as desired on the on-line entry page \nREGISTRATION OPENS 09:00 from where you will collect your number\, pins and bunny ears. \nTOILETS and CAFE AVAILABLE ON SITE \nLIMITED PLACES – 200 RUNNERS LIMIT \nPLEASE NOTE – TO REDUCE THE AMOUNT OF WASTE AT OUR EVENTS\, THERE WILL NOT BE A WATER STATION ON ROUTE. PLEASE CARRY ANY DRINKS YOU WILL NEED. Bottles of water will be handed out at the finish. \nIMPORTANT INFORMATION – The Wyre Forest Visitor Centre operate a pay & display system in the car park. Please ensure you display a parking ticket or Forestry parking permit. \nWITHDRAWAL POLICY – NO refunds will be issued UNDER ANY CIRCUMSTANCES. You may however TRANSFER your entry ONCE to another DirtRun event . YOU MUST NOTIFY THE ORGANISER BEFORE THE EVENT TAKES PLACE. \nEvent Websites\nhttp://www.pulse-events.co.uk
URL:https://www.pulsepursuits.co.uk/events/wyre-forest-easter-bunny-run/
LOCATION:Wyre Forest Visitor Centre\, Near Callow Hill\, Rock\, DY14 9XQ\, Rock\, DY14 9XQ\, GB
ORGANIZER;CN="Pulse%20Events":MAILTO:events@pulsepursuits.co.uk
END:VEVENT
END:VCALENDAR