BEGIN:VCALENDAR
VERSION:2.0
PRODID:-//Pulse Events - ECPv5.8.1//NONSGML v1.0//EN
CALSCALE:GREGORIAN
METHOD:PUBLISH
X-WR-CALNAME:Pulse Events
X-ORIGINAL-URL:https://www.pulsepursuits.co.uk
X-WR-CALDESC:Events for Pulse Events
BEGIN:VTIMEZONE
TZID:Europe/London
BEGIN:DAYLIGHT
TZOFFSETFROM:+0000
TZOFFSETTO:+0100
TZNAME:BST
DTSTART:20210328T010000
END:DAYLIGHT
BEGIN:STANDARD
TZOFFSETFROM:+0100
TZOFFSETTO:+0000
TZNAME:GMT
DTSTART:20211031T010000
END:STANDARD
END:VTIMEZONE
BEGIN:VEVENT
DTSTART;TZID=Europe/London:20210718T090000
DTEND;TZID=Europe/London:20210718T170000
DTSTAMP:20260419T231425
CREATED:20210324T205519Z
LAST-MODIFIED:20210704T100633Z
UID:4125-1626598800-1626627600@www.pulsepursuits.co.uk
SUMMARY:The Worcestershire Rough Ride
DESCRIPTION:BRAND NEW FOR SUMMER 2021\, The Worcestershire Rough Ride. \nDOWNLOAD THE ROUTE OVERVIEW MAP \nDOWNLOAD THE ROUTE GPX FILE \nVIEW ROUTE ON VIEWRANGER \nVIEW ROUTE ON STRAVA \nVIEW / DOWNLOAD ROUTE ON PLOTAROUTE \n50 miles (ish) of great tracks\, bridleways\, gravel\, cobbles\, mud and quiet lanes\, with plenty of ups and downs\, taking in the best North Worcestershire has to offer. \nThere’s at least 2 fully stocked feed stations on route\, plus event timing\, an event medal and all the usual high standard of route marking / maps etc. you can expect from one of our events.  \nOur hosts\, Bromsgrove Rugby Football Club will be offering refreshments pre and post ride\, and we encourage everyone to stick around for food and drinks (beer included) after their ride. \nEntry fee just £25 for the first 20 entrants\, then £30 for the next 30\, then £35 until final closing date. Depending on entry numbers\, entry on the day MAY be permitted. \nFull route details will be published at least 4 weeks prior to the event\, and we reserve the right to change elements of the route due to path / road closures or conditions.  \nRiders can set off from 08:30 – 09:30 on the day and you will be grouped in numbers\, to be determined in advance. \nParking is available on site\, with a very small donation to the hosts payable. \nMinimum age 12 years (must be accompanied by adult). Any riders Under 16 years must have an adult riding with them. \nBRING ON THE SUMMER !!!
URL:https://www.pulsepursuits.co.uk/events/the-worcestershire-rough-ride/
LOCATION:Bromsgrove Rugby Football Club\, Finstall Road\, Bromsgrove\, United Kingdom
ORGANIZER;CN="Pulse%20Events":MAILTO:events@pulsepursuits.co.uk
END:VEVENT
END:VCALENDAR