BEGIN:VCALENDAR
VERSION:2.0
PRODID:-//Pulse Events - ECPv5.8.1//NONSGML v1.0//EN
CALSCALE:GREGORIAN
METHOD:PUBLISH
X-WR-CALNAME:Pulse Events
X-ORIGINAL-URL:https://www.pulsepursuits.co.uk
X-WR-CALDESC:Events for Pulse Events
BEGIN:VTIMEZONE
TZID:Europe/London
BEGIN:DAYLIGHT
TZOFFSETFROM:+0000
TZOFFSETTO:+0100
TZNAME:BST
DTSTART:20200329T010000
END:DAYLIGHT
BEGIN:STANDARD
TZOFFSETFROM:+0100
TZOFFSETTO:+0000
TZNAME:GMT
DTSTART:20201025T010000
END:STANDARD
END:VTIMEZONE
BEGIN:VEVENT
DTSTART;TZID=Europe/London:20200329T093000
DTEND;TZID=Europe/London:20200329T120000
DTSTAMP:20260420T052323
CREATED:20191129T211128Z
LAST-MODIFIED:20200312T201634Z
UID:3559-1585474200-1585483200@www.pulsepursuits.co.uk
SUMMARY:The Valley Super Sprint Off-Road Duathlon & 10k
DESCRIPTION:
URL:https://www.pulsepursuits.co.uk/events/the-valley-super-sprint-off-road-duathlon/
LOCATION:The Valley Shopping\, Off A46\, Evesham\, WR11 4DS\, Evesham\, WR11 4DS\, GB
ORGANIZER;CN="Pulse%20Events":MAILTO:events@pulsepursuits.co.uk
END:VEVENT
END:VCALENDAR