BEGIN:VCALENDAR
VERSION:2.0
PRODID:-//Pulse Events - ECPv5.8.1//NONSGML v1.0//EN
CALSCALE:GREGORIAN
METHOD:PUBLISH
X-WR-CALNAME:Pulse Events
X-ORIGINAL-URL:https://www.pulsepursuits.co.uk
X-WR-CALDESC:Events for Pulse Events
BEGIN:VTIMEZONE
TZID:Europe/London
BEGIN:DAYLIGHT
TZOFFSETFROM:+0000
TZOFFSETTO:+0100
TZNAME:BST
DTSTART:20210328T010000
END:DAYLIGHT
BEGIN:STANDARD
TZOFFSETFROM:+0100
TZOFFSETTO:+0000
TZNAME:GMT
DTSTART:20211031T010000
END:STANDARD
END:VTIMEZONE
BEGIN:VEVENT
DTSTART;TZID=Europe/London:20210618T190000
DTEND;TZID=Europe/London:20210618T210000
DTSTAMP:20260420T004742
CREATED:20210416T153643Z
LAST-MODIFIED:20210416T153643Z
UID:4178-1624042800-1624050000@www.pulsepursuits.co.uk
SUMMARY:The Friday Finstall Five
DESCRIPTION:BRAND NEW FOR 2021 \nThe Friday Finstall Five is a 5.5 miles run starting and finishing at Bromsgrove Rugby Football Club\, Finstall\, Bromsgrove. \nA mixture of quiet lanes\, footpaths\, tracks\, trails and towpath awaits you. \nStick around for a summer evening drink and BBQ at the Rugby Club  \nENTRY FEE £15 in advance  – only 150 places available \nPrizes for first 5 in each gender plus spot prizes (No age categories) \nFinish goodies and medal for all competitors.  \nMinimum age 16 yrs\nREGISTRATION OPENS 18:00 and CLOSES 18:45   \nRACE STARTS 19:00 \nTOILETS and PARKING AVAILABLE ON SITE \nPLEASE NOTE – TO REDUCE THE AMOUNT OF WASTE AT THE EVENT THERE IS NO DRINK STATION\, BUT WATER WILL BE AVAILABLE AT THE FINISH. If you need a drink on route\, please carry your own. \nTHIS IS NOT A CANI-CROSS FRIENDLY RUN – SORRY\, NO DOGS \nWITHDRAWAL POLICY – NO refunds will be issued UNDER ANY CIRCUMSTANCES. You may however TRANSFER your entry ONCE to another DirtRun event . YOU MUST NOTIFY THE ORGANISER BEFORE THE EVENT TAKES PLACE. \nEvent Websites	http://www.pulse-events.co.uk
URL:https://www.pulsepursuits.co.uk/events/the-friday-finstall-five/
LOCATION:Bromsgrove Rugby Football Club\, Finstall Road\, Bromsgrove\, United Kingdom
ORGANIZER;CN="Pulse%20Events":MAILTO:events@pulsepursuits.co.uk
END:VEVENT
END:VCALENDAR