BEGIN:VCALENDAR
VERSION:2.0
PRODID:-//Pulse Events - ECPv5.8.1//NONSGML v1.0//EN
CALSCALE:GREGORIAN
METHOD:PUBLISH
X-WR-CALNAME:Pulse Events
X-ORIGINAL-URL:https://www.pulsepursuits.co.uk
X-WR-CALDESC:Events for Pulse Events
BEGIN:VTIMEZONE
TZID:Europe/London
BEGIN:DAYLIGHT
TZOFFSETFROM:+0000
TZOFFSETTO:+0100
TZNAME:BST
DTSTART:20240331T010000
END:DAYLIGHT
BEGIN:STANDARD
TZOFFSETFROM:+0100
TZOFFSETTO:+0000
TZNAME:GMT
DTSTART:20241027T010000
END:STANDARD
END:VTIMEZONE
BEGIN:VEVENT
DTSTART;TZID=Europe/London:20240717T180000
DTEND;TZID=Europe/London:20240717T180000
DTSTAMP:20260419T160241
CREATED:20210428T134115Z
LAST-MODIFIED:20240527T093941Z
UID:4205-1721239200-1721239200@www.pulsepursuits.co.uk
SUMMARY:Pulse Events Summer Cross 2024
DESCRIPTION:Baggeridge Country Park is the venue\, a popular one as part of the WMCCL. \nRaces: \n18:00 Under 12s categories \n18:30 Under 16s categories \n19:15 Junior/Senior/Women/Veteran \nEntry in advance is recommended\, with a limited number of ‘on the day’ entries available with a surcharge. \nDue to event venue costs\, there will be NO prizes at the event.  \nChip timing service provided. \nToilets available on site\, plus cafe. Parking charge is via Pay & Display at the park
URL:https://www.pulsepursuits.co.uk/events/pulse-events-summer-cross-1/
LOCATION:Baggeridge Country Park\, DY3 4HB
ORGANIZER;CN="Pulse%20Events":MAILTO:events@pulsepursuits.co.uk
END:VEVENT
END:VCALENDAR