BEGIN:VCALENDAR
VERSION:2.0
PRODID:-//Pulse Events - ECPv5.8.1//NONSGML v1.0//EN
CALSCALE:GREGORIAN
METHOD:PUBLISH
X-WR-CALNAME:Pulse Events
X-ORIGINAL-URL:https://www.pulsepursuits.co.uk
X-WR-CALDESC:Events for Pulse Events
BEGIN:VTIMEZONE
TZID:Europe/London
BEGIN:DAYLIGHT
TZOFFSETFROM:+0000
TZOFFSETTO:+0100
TZNAME:BST
DTSTART:20170326T010000
END:DAYLIGHT
BEGIN:STANDARD
TZOFFSETFROM:+0100
TZOFFSETTO:+0000
TZNAME:GMT
DTSTART:20171029T010000
END:STANDARD
END:VTIMEZONE
BEGIN:VEVENT
DTSTART;TZID=Europe/London:20170101T090000
DTEND;TZID=Europe/London:20170101T230000
DTSTAMP:20260419T185304
CREATED:20161010T081421Z
LAST-MODIFIED:20161213T180138Z
UID:1918-1483261200-1483311600@www.pulsepursuits.co.uk
SUMMARY:New Year's Day Dirt Run (now with a 5k option also)
DESCRIPTION:We are back again at the National Trust’s spectacular grounds of Croome Court and Landscape Park\nA full 10k route with a 5k option\, will take runners through the awesome grounds of Croome\, designed by Capability Brown\, his first large scale commission and is often described as his ‘first and most favourite child’. Junior race of 2.8k features the section around the fantastic landscape gardens\, with its bridges and tunnels. \nJuniors 09:00\nSeniors 09:30 (both 5 and 10k races)\nBOOK YOUR PLACE
URL:https://www.pulsepursuits.co.uk/events/new-years-day-dirt-run/
LOCATION:NT Croome\, WR8 9DW
CATEGORIES:Dirt Run
ATTACH;FMTTYPE=image/jpeg:https://www.pulsepursuits.co.uk/wp-content/uploads/2016/09/DRSquare.jpg
END:VEVENT
END:VCALENDAR