BEGIN:VCALENDAR
VERSION:2.0
PRODID:-//Pulse Events - ECPv5.8.1//NONSGML v1.0//EN
CALSCALE:GREGORIAN
METHOD:PUBLISH
X-WR-CALNAME:Pulse Events
X-ORIGINAL-URL:https://www.pulsepursuits.co.uk
X-WR-CALDESC:Events for Pulse Events
BEGIN:VTIMEZONE
TZID:Europe/London
BEGIN:DAYLIGHT
TZOFFSETFROM:+0000
TZOFFSETTO:+0100
TZNAME:BST
DTSTART:20190331T010000
END:DAYLIGHT
BEGIN:STANDARD
TZOFFSETFROM:+0100
TZOFFSETTO:+0000
TZNAME:GMT
DTSTART:20191027T010000
END:STANDARD
END:VTIMEZONE
BEGIN:VEVENT
DTSTART;TZID=Europe/London:20190215T183000
DTEND;TZID=Europe/London:20190215T203000
DTSTAMP:20260419T201739
CREATED:20181010T132123Z
LAST-MODIFIED:20181126T152541Z
UID:3225-1550255400-1550262600@www.pulsepursuits.co.uk
SUMMARY:DirtRun In The Dark 3 - Wyre Forest
DESCRIPTION:The event takes place at the Wyre Forest\, Callow Hill Visitor Centre\nA 10km (2 laps) / 5km (1 lap) off-road senior and youths route (2k junior route) will take runners around the tracks\, trails and mud of the Wyre Forest\, in the dark ! \nParents may run with their children in the junior run\, at no extra cost. \nJUNIOR RACE 18:30 (£5 entry fee)\nYOUTH & SENIOR RACES 19:00 (£12 5k\, £15 10k entry fee) \nHeadtorches are COMPULSORY \nCategory prizes on offer\, including real ale courtesy of sponsor’s Teme Valley Brewery \nFinish goodies and medal for all competitors. \nThe event supports St Richards Hospice . £1 from all SENIOR entry fees will be donated direct to charity. Participants may make additional voluntary contributions as desired on the on-line entry page \nREGISTRATION CLOSES 18:15 for the junior race\, and 18:45 for the youth / senior races\nJUNIOR RACE OPEN TO 4-11 yr olds. YOUTH 5k RACE 12-15 yrs. MINIMUM AGE FOR SENIOR RACE ON RACE DAY – 16 years \nLIMITED PLACES – 250 RUNNERS LIMIT (Total across all races) \nIMPORTANT INFORMATION – The Wyre Forest Visitor Centre operate a pay & display system in the car park. Please ensure you display a parking ticket or Forestry parking permit. \nWITHDRAWAL POLICY – NO refunds will be issued UNDER ANY CIRCUMSTANCES. You may however TRANSFER your entry ONCE to another DirtRun event . YOU MUST NOTIFY THE ORGANISER BEFORE THE EVENT TAKES PLACE.\nEvent Websites \nHome \n\nImportant announcement for those runnning with dogs at our DirtRun events. Anyone wishing to run with a dog\, will start 5 minutes behind the rest of the field.\nSt Richard’s Hospice provides free specialist palliative care for patients living with cancer and other life- limiting illnesses and supports their families. St Richard’s is an independent charity and is grateful for all donations to help it continue its work.
URL:https://www.pulsepursuits.co.uk/events/dirtrun-winter-warrior-series-round-4-only-wyre-forest-2-2/
LOCATION:Wyre Forest\, GB
CATEGORIES:Dirt Run
ATTACH;FMTTYPE=image/png:https://www.pulsepursuits.co.uk/wp-content/uploads/2018/10/Artboard-18@2x.png
ORGANIZER;CN="Pulse%20Events":MAILTO:events@pulsepursuits.co.uk
END:VEVENT
END:VCALENDAR