BEGIN:VCALENDAR
VERSION:2.0
PRODID:-//Pulse Events - ECPv5.8.1//NONSGML v1.0//EN
CALSCALE:GREGORIAN
METHOD:PUBLISH
X-WR-CALNAME:Pulse Events
X-ORIGINAL-URL:https://www.pulsepursuits.co.uk
X-WR-CALDESC:Events for Pulse Events
BEGIN:VTIMEZONE
TZID:Europe/London
BEGIN:DAYLIGHT
TZOFFSETFROM:+0000
TZOFFSETTO:+0100
TZNAME:BST
DTSTART:20230326T010000
END:DAYLIGHT
BEGIN:STANDARD
TZOFFSETFROM:+0100
TZOFFSETTO:+0000
TZNAME:GMT
DTSTART:20231029T010000
END:STANDARD
END:VTIMEZONE
BEGIN:VEVENT
DTSTART;TZID=Europe/London:20231122T190000
DTEND;TZID=Europe/London:20231122T203000
DTSTAMP:20260419T185519
CREATED:20170915T103357Z
LAST-MODIFIED:20230315T203402Z
UID:2928-1700679600-1700685000@www.pulsepursuits.co.uk
SUMMARY:DirtRun In The Dark - Race 2
DESCRIPTION:Back for the first time since 2020 ! \nThe event takes place at The Wyre Forest\, Callow Hill Visitor Centre  \nA 10km (2 laps) off-road  route will take runners around the tracks and trails\, in the dark !  \nMinumum age 14yrs on race day  \nPLEASE NOTE –  CANICROSS is permitted !  \nTORCHES are COMPULSORY \nCategories\nMALE\nFEMALE \nPrizes for first 5 in each gender (no age categories) \nFinish goodies and medal for all competitors.  \nREGISTRATION CLOSES 18:45   \nTOILETS AVAILABLE ON SITE\, BUT THE CAFE WILL NOT BE OPEN  \nLIMITED PLACES – 200 RUNNERS LIMIT  \nPLEASE NOTE – TO REDUCE THE AMOUNT OF WASTE AT OUR EVENTS\, WE NOW PROVIDE A ‘SELF-SERVICE’ WATER REFILL SERVICE AT HALF DISTANCE IN 10k RUNS. A WATER CONTAINER WITH TAP AND CUPS WILL BE AVAILABLE  \nWITHDRAWAL POLICY – NO refunds will be issued UNDER ANY CIRCUMSTANCES. You may however TRANSFER your entry ONCE to another DirtRun event . YOU MUST NOTIFY THE ORGANISER BEFORE THE EVENT TAKES PLACE. \nEvent Websites	http://www.pulse-events.co.uk
URL:https://www.pulsepursuits.co.uk/events/dirtrun-winter-warrior-series-round-3-only-baggeridge-country-park/
CATEGORIES:Dirt Run
ORGANIZER;CN="Pulse%20Events":MAILTO:events@pulsepursuits.co.uk
END:VEVENT
END:VCALENDAR