BEGIN:VCALENDAR
VERSION:2.0
PRODID:-//Pulse Events - ECPv5.8.1//NONSGML v1.0//EN
CALSCALE:GREGORIAN
METHOD:PUBLISH
X-WR-CALNAME:Pulse Events
X-ORIGINAL-URL:https://www.pulsepursuits.co.uk
X-WR-CALDESC:Events for Pulse Events
BEGIN:VTIMEZONE
TZID:Europe/London
BEGIN:DAYLIGHT
TZOFFSETFROM:+0000
TZOFFSETTO:+0100
TZNAME:BST
DTSTART:20190331T010000
END:DAYLIGHT
BEGIN:STANDARD
TZOFFSETFROM:+0100
TZOFFSETTO:+0000
TZNAME:GMT
DTSTART:20191027T010000
END:STANDARD
END:VTIMEZONE
BEGIN:VEVENT
DTSTART;TZID=Europe/London:20190717T183000
DTEND;TZID=Europe/London:20190717T213000
DTSTAMP:20260419T231344
CREATED:20190204T202158Z
LAST-MODIFIED:20190204T202158Z
UID:3315-1563388200-1563399000@www.pulsepursuits.co.uk
SUMMARY:DirtRun Summer Sizzler Series - ROUND 4
DESCRIPTION:Round 4 of the DirtRun Summer Sizzler Series 2019 \nThe event takes place at Lenches Lakes\, near Evesham\nA 10km (2 laps) / 5km (1 lap ) off-road senior and youths route (2k junior route) \nParents may run with their children in the junior run\, at no extra cost. \nENTER THE FULL SERIES https://www.entrycentral.com/sizzlerseries \nJUNIOR RACE 18:30 (£5 entry fee)\nYOUTH & SENIOR RACES 19:00 (£12 5k\, £15 10k entry fee) \nCategory prizes on offer\, including real ale courtesy of sponsor’s Teme Valley Brewery \nFinish goodies and medal for all competitors. \nREGISTRATION CLOSES 18:15 for the junior race\, and 18:45 for the youth / senior races\nJUNIOR RACE OPEN TO 4-11 yr olds. YOUTH 5k RACE 12-15 yrs. MINIMUM AGE FOR SENIOR RACE ON RACE DAY – 16 years\nLIMITED PLACES – 250 RUNNERS LIMIT (Total across all races)\nWITHDRAWAL POLICY – NO refunds will be issued UNDER ANY CIRCUMSTANCES. You may however TRANSFER your entry ONCE to another DirtRun event . YOU MUST NOTIFY THE ORGANISER BEFORE THE EVENT TAKES PLACE. \nEvent Websites\nhttp://www.pulse-events.co.uk \nImportant announcement for those running with dogs at our DirtRun events. Anyone wishing to run with a dog\, will start 2 minutes behind the rest of the field.
URL:https://www.pulsepursuits.co.uk/events/dirtrun-summer-sizzler-series-round-4/
LOCATION:Lenches Lakes\, Hill Barn Orchard\, Evesham Rd\, Evesham\, Evesham\, WR11 4UB\, United Kingdom
ORGANIZER;CN="Pulse%20Events":MAILTO:events@pulsepursuits.co.uk
END:VEVENT
END:VCALENDAR