BEGIN:VCALENDAR
VERSION:2.0
PRODID:-//Pulse Events - ECPv5.8.1//NONSGML v1.0//EN
CALSCALE:GREGORIAN
METHOD:PUBLISH
X-WR-CALNAME:Pulse Events
X-ORIGINAL-URL:https://www.pulsepursuits.co.uk
X-WR-CALDESC:Events for Pulse Events
BEGIN:VTIMEZONE
TZID:Europe/London
BEGIN:DAYLIGHT
TZOFFSETFROM:+0000
TZOFFSETTO:+0100
TZNAME:BST
DTSTART:20200329T010000
END:DAYLIGHT
BEGIN:STANDARD
TZOFFSETFROM:+0100
TZOFFSETTO:+0000
TZNAME:GMT
DTSTART:20201025T010000
END:STANDARD
END:VTIMEZONE
BEGIN:VEVENT
DTSTART;TZID=Europe/London:20200701T183000
DTEND;TZID=Europe/London:20200701T213000
DTSTAMP:20260424T222857
CREATED:20190204T201553Z
LAST-MODIFIED:20200117T102514Z
UID:3310-1593628200-1593639000@www.pulsepursuits.co.uk
SUMMARY:DirtRun Summer Sizzler Series - ROUND 2
DESCRIPTION:Round 2 of the DirtRun Summer Sizzler Series 2020\nENTER THE FULL SERIES\nThe event takes place at Comer Woods\, part of Dudmaston Estate\nA 10km – 2 laps / 5km – 1 lap off-road senior and youths route (2k junior route) will take runners around the tracks and trails of the stunning Comer Woods ! \nParents may run with their children in the junior run\, at no extra cost. \nJUNIOR RACE 18:30 (£6 entry fee)\nYOUTH & SENIOR RACES 19:00 (£12/£13 5k\, £18 10k entry fee) \nCategory prizes on offer\, including real ale courtesy of sponsor’s Teme Valley Brewery \nFinish goodies and medal for all competitors. \nPLEASE NOTE – TO REDUCE THE AMOUNT OF WASTE AT OUR EVENTS\, WE NOW PROVIDE A ‘SELF-SERVICE’ WATER REFILL SERVICE AT HALF DISTANCE IN 10k RUNS. A WATER CONTAINER WITH TAP WILL BE AVAILABLE FOR YOU TO FILL YOUR OWN BOTTLE OR CUP\, BUT WE DO NOT PROVIDE CUPS. \nREGISTRATION CLOSES 18:15 for the junior race\, and 18:45 for the youth / senior races\nJUNIOR RACE OPEN TO 4-11 yr olds. YOUTH 5k RACE 12-15 yrs. MINIMUM AGE FOR SENIOR RACE ON RACE DAY – 16 years \nIMPORTANT INFORMATION – A small parking charge will apply at the event\, £2 per car. \nWITHDRAWAL POLICY – NO refunds will be issued UNDER ANY CIRCUMSTANCES. You may however TRANSFER your entry ONCE to another DirtRun event . YOU MUST NOTIFY THE ORGANISER BEFORE THE EVENT TAKES PLACE.\nEvent Websites\nhttp://www.pulse-events.co.uk\nImportant announcement for those running with dogs at our DirtRun events. Anyone wishing to run with a dog\, will start 1 minute behind the rest of the field.
URL:https://www.pulsepursuits.co.uk/events/dirtrun-summer-sizzler-series-round-2/
LOCATION:National Trust – Dudmaston\, Comer Woods site (Not main entrance)\, Quatt\, WV15 6QN\, Quatt\, WV15 6QN\, GB
ORGANIZER;CN="Pulse%20Events":MAILTO:events@pulsepursuits.co.uk
END:VEVENT
END:VCALENDAR