BEGIN:VCALENDAR
VERSION:2.0
PRODID:-//Pulse Events - ECPv5.8.1//NONSGML v1.0//EN
CALSCALE:GREGORIAN
METHOD:PUBLISH
X-WR-CALNAME:Pulse Events
X-ORIGINAL-URL:https://www.pulsepursuits.co.uk
X-WR-CALDESC:Events for Pulse Events
BEGIN:VTIMEZONE
TZID:Europe/London
BEGIN:DAYLIGHT
TZOFFSETFROM:+0000
TZOFFSETTO:+0100
TZNAME:BST
DTSTART:20200329T010000
END:DAYLIGHT
BEGIN:STANDARD
TZOFFSETFROM:+0100
TZOFFSETTO:+0000
TZNAME:GMT
DTSTART:20201025T010000
END:STANDARD
END:VTIMEZONE
BEGIN:VEVENT
DTSTART;TZID=Europe/London:20200624T183000
DTEND;TZID=Europe/London:20200624T213000
DTSTAMP:20260425T000322
CREATED:20190204T201228Z
LAST-MODIFIED:20200221T131335Z
UID:3308-1593023400-1593034200@www.pulsepursuits.co.uk
SUMMARY:DirtRun Summer Sizzler Series  - ROUND 1
DESCRIPTION:Round 1 of the DirtRun Summer Sizzler Series 2020 \nENTER THE FULL SERIES\n\nPLEASE NOTE THERE IS A STRICT 150 RUNNERS LIMIT  \nThe event takes place at Kinver Edge and The Rock Houses. \nA 10.8km (2 laps) / 5.4km (1 lap) off-road senior and youths route (2k junior route) will take runners around the tracks\, trails and hills of Kinver Edge\n\nParents may run with their children in the junior run\, at no extra cost.\n\nJUNIOR RACE 18:30 (£6 entry fee)\nYOUTH & SENIOR RACES 19:00 (£13 5k\, £18 10k entry fee)\n\nCategory prizes on offer\, including real ale courtesy of sponsor’s Teme Valley Brewery\n\nFinish goodies and medal for all competitors. Refreshments available to purchase on site\n\nPLEASE NOTE – TO REDUCE THE AMOUNT OF WASTE AT OUR EVENTS\, WE NOW PROVIDE A ‘SELF-SERVICE’ WATER REFILL SERVICE AT HALF DISTANCE IN 10k RUNS. A WATER CONTAINER WITH TAP WILL BE AVAILABLE FOR YOU TO FILL YOUR OWN BOTTLE OR CUP\, BUT WE DO NOT PROVIDE CUPS.\n\nREGISTRATION CLOSES 18:15 for the junior race\, and 18:45 for the youth / senior races  \nJUNIOR RACE OPEN TO 4-11 yr olds. YOUTH 5k RACE 12-15 yrs. MINIMUM AGE FOR SENIOR RACE ON RACE DAY – 16 years \nPARKING IS LIMITED AT THE VENUE SO PLEASE CAR SHARE IF POSSIBLE.  \n  \nLIMITED PLACES – 150 RUNNERS LIMIT (Total across all races) \n  \nWITHDRAWAL POLICY – NO refunds will be issued UNDER ANY CIRCUMSTANCES. You may however TRANSFER your entry ONCE to another DirtRun event . YOU MUST NOTIFY THE ORGANISER BEFORE THE EVENT TAKES PLACE. \n\n\n\nEvent Websites\nhttp://www.pulse-events.co.uk\n\n\n\nImportant announcement for those runnning with dogs at our DirtRun events. Anyone wishing to run with a dog\, will start 1 minutes behind the rest of the field. \n\n\n  \n 
URL:https://www.pulsepursuits.co.uk/events/dirtrun-summer-sizzler-series-round-1/
ORGANIZER;CN="Pulse%20Events":MAILTO:events@pulsepursuits.co.uk
END:VEVENT
END:VCALENDAR