BEGIN:VCALENDAR
VERSION:2.0
PRODID:-//Pulse Events - ECPv5.8.1//NONSGML v1.0//EN
CALSCALE:GREGORIAN
METHOD:PUBLISH
X-WR-CALNAME:Pulse Events
X-ORIGINAL-URL:https://www.pulsepursuits.co.uk
X-WR-CALDESC:Events for Pulse Events
BEGIN:VTIMEZONE
TZID:Europe/London
BEGIN:DAYLIGHT
TZOFFSETFROM:+0000
TZOFFSETTO:+0100
TZNAME:BST
DTSTART:20230326T010000
END:DAYLIGHT
BEGIN:STANDARD
TZOFFSETFROM:+0100
TZOFFSETTO:+0000
TZNAME:GMT
DTSTART:20231029T010000
END:STANDARD
END:VTIMEZONE
BEGIN:VEVENT
DTSTART;TZID=Europe/London:20230823T190000
DTEND;TZID=Europe/London:20230823T190000
DTSTAMP:20260419T201713
CREATED:20210508T191505Z
LAST-MODIFIED:20230620T091215Z
UID:4237-1692817200-1692817200@www.pulsepursuits.co.uk
SUMMARY:DirtRun Lakeside 10k
DESCRIPTION:Wednesday 23rd August 2023 \nThe Lakeside Launcher 10k \nA mixture of quiet lanes\, footpaths\, tracks and trails awaits you \nENTRY FEE £17 in advance  – only 150 places available \nPrizes for first 5 in each gender plus spot prizes (No age categories) \nFinish goodies and medal for all competitors.  \nMinimum age 16 yrs\nREGISTRATION OPENS 18:00 and CLOSES 18:45   \nRACE STARTS 19:00 \nTOILETS and PARKING AVAILABLE ON SITE  \nIMPORTANT INFORMATION – The University of Worcester charge £5 per car to park at the event. Please bring correct change and car share where practical \nPLEASE NOTE – TO REDUCE THE AMOUNT OF WASTE AT THE EVENT THERE IS NO DRINK STATION\, BUT WATER WILL BE AVAILABLE AT THE FINISH. If you need a drink on route\, please carry your own. \nTHIS IS NOT A CANI-CROSS FRIENDLY RUN – SORRY\, NO DOGS \nWITHDRAWAL POLICY – NO refunds will be issued UNDER ANY CIRCUMSTANCES. You may however TRANSFER your entry ONCE to another DirtRun event . YOU MUST NOTIFY THE ORGANISER BEFORE THE EVENT TAKES PLACE. \nEvent Websites	http://www.pulse-events.co.uk
URL:https://www.pulsepursuits.co.uk/events/dirtrun-lakeside-10k/
LOCATION:University of Worcester Lakeside Campus (Top Barn)\, WR6 6NH 
ORGANIZER;CN="Pulse%20Events":MAILTO:events@pulsepursuits.co.uk
END:VEVENT
END:VCALENDAR