BEGIN:VCALENDAR
VERSION:2.0
PRODID:-//Pulse Events - ECPv5.8.1//NONSGML v1.0//EN
CALSCALE:GREGORIAN
METHOD:PUBLISH
X-WR-CALNAME:Pulse Events
X-ORIGINAL-URL:https://www.pulsepursuits.co.uk
X-WR-CALDESC:Events for Pulse Events
BEGIN:VTIMEZONE
TZID:Europe/London
BEGIN:DAYLIGHT
TZOFFSETFROM:+0000
TZOFFSETTO:+0100
TZNAME:BST
DTSTART:20170326T010000
END:DAYLIGHT
BEGIN:STANDARD
TZOFFSETFROM:+0100
TZOFFSETTO:+0000
TZNAME:GMT
DTSTART:20171029T010000
END:STANDARD
END:VTIMEZONE
BEGIN:VEVENT
DTSTART;TZID=Europe/London:20170317T183000
DTEND;TZID=Europe/London:20170317T210000
DTSTAMP:20260419T160358
CREATED:20170221T143702Z
LAST-MODIFIED:20170221T143702Z
UID:2325-1489775400-1489784400@www.pulsepursuits.co.uk
SUMMARY:DirtRun In The Dark - Last chance night run!!
DESCRIPTION:DirtRun In The Dark – back by popular demand for a special limited places run \nWe are back again at The Valley\, Evesham for another great night run event. \nLimited places for this one\, only 80 Adults and 40 Juniors for a last fast blast with your headtorch! \nBOOK YOUR PLACE\nA 9k route (2 x 4.5k laps) will take runners around the tracks and trails of Evesham Country Park. \nJunior run (2.5km) following the opening parts of the senior route\, then heading to the finish. \nJUNIOR RACE 18:30 – £5\nSENIOR RACE 19:00 – £12 (special low price) \n\nCategory prizes on offer.\nMobile Coffee wagon on site.\nFinish goodies and medal for all competitors.\n\nThe event raises vital funds for St Richard’s Hospice\, with £1 from every senior race entry fee going to the charity to help them in their vital work. You can also increase your donation too when booking. \nThis is a night event\, and as such ALL RUNNERS MUST CARRY SOME FORM OF TORCH (Head torch is best!). The route will be lit with over 100 LED lights too\nMINIMUM AGE FOR SENIOR RACE (ON RACE DAY) – 15 years \nPARENTS MAY RUN WITH CHILDREN IN JUNIOR RACE AT NO EXTRA COST \nLIMITED PLACES – 120 RUNNERS LIMIT (across both races)
URL:https://www.pulsepursuits.co.uk/events/dirtrun-in-the-dark-last-chance-night-run/
LOCATION:The Valley\, WR114TP
CATEGORIES:Dirt Run
ATTACH;FMTTYPE=image/jpeg:https://www.pulsepursuits.co.uk/wp-content/uploads/2016/12/DRITDSquare-1.jpg
END:VEVENT
END:VCALENDAR