BEGIN:VCALENDAR
VERSION:2.0
PRODID:-//Pulse Events - ECPv5.8.1//NONSGML v1.0//EN
CALSCALE:GREGORIAN
METHOD:PUBLISH
X-WR-CALNAME:Pulse Events
X-ORIGINAL-URL:https://www.pulsepursuits.co.uk
X-WR-CALDESC:Events for Pulse Events
BEGIN:VTIMEZONE
TZID:Europe/London
BEGIN:DAYLIGHT
TZOFFSETFROM:+0000
TZOFFSETTO:+0100
TZNAME:BST
DTSTART:20250330T010000
END:DAYLIGHT
BEGIN:STANDARD
TZOFFSETFROM:+0100
TZOFFSETTO:+0000
TZNAME:GMT
DTSTART:20251026T010000
END:STANDARD
END:VTIMEZONE
BEGIN:VEVENT
DTSTART;TZID=Europe/London:20250119T093000
DTEND;TZID=Europe/London:20250119T113000
DTSTAMP:20260419T143714
CREATED:20210619T180918Z
LAST-MODIFIED:20241008T103735Z
UID:4310-1737279000-1737286200@www.pulsepursuits.co.uk
SUMMARY:DirtRun Dudmaston 10k
DESCRIPTION:Sunday 19th January 2025 \nWe are back\, at one of our favourite locations ! \nThe event takes place at Comer Woods\, part of Dudmaston Estate \nA 10km off-road route will take runners around the tracks and trails of the stunning Comer Woods  !  \nVIEW THE ROUTE  \nCategory prizes on offer\, including real ale courtesy of sponsor’s Teme Valley Brewery \nFinish goodies and medal for all competitors.  \nRace starts 09:30 \nRegistration from 08:30-09:15 \nEntry fee £18  \nPrizes for first 5 runners in each gender. Cani-cross may run but are not eligible for a prize. \nMinimum age 14 years on event day \nIMPORTANT INFORMATION – A parking charge will apply at the event for any non-National Trust members. Parking in Comer Woods is free for National Trust members\, and £5 for the whole day for non-members. Please display your ticket on your windscreen or dashboard. NT Members must scan their membership cards at the ticket machine and obtain a free ticket\, to display.  \nWITHDRAWAL POLICY – NO refunds will be issued UNDER ANY CIRCUMSTANCES. You may however TRANSFER your entry ONCE to another DirtRun event . YOU MUST NOTIFY THE ORGANISER BEFORE THE EVENT TAKES PLACE. \nEvent Websites	http://www.pulse-events.co.uk
URL:https://www.pulsepursuits.co.uk/events/dirtrun-dudmaston-10k/
LOCATION:National Trust – Dudmaston\, Comer Woods site (Not main entrance)\, Quatt\, WV15 6QN\, Quatt\, WV15 6QN\, GB
ORGANIZER;CN="Pulse%20Events":MAILTO:events@pulsepursuits.co.uk
END:VEVENT
END:VCALENDAR