BEGIN:VCALENDAR
VERSION:2.0
PRODID:-//Pulse Events - ECPv5.8.1//NONSGML v1.0//EN
CALSCALE:GREGORIAN
METHOD:PUBLISH
X-WR-CALNAME:Pulse Events
X-ORIGINAL-URL:https://www.pulsepursuits.co.uk
X-WR-CALDESC:Events for Pulse Events
BEGIN:VTIMEZONE
TZID:Europe/London
BEGIN:DAYLIGHT
TZOFFSETFROM:+0000
TZOFFSETTO:+0100
TZNAME:BST
DTSTART:20170326T010000
END:DAYLIGHT
BEGIN:STANDARD
TZOFFSETFROM:+0100
TZOFFSETTO:+0000
TZNAME:GMT
DTSTART:20171029T010000
END:STANDARD
END:VTIMEZONE
BEGIN:VEVENT
DTSTART;TZID=Europe/London:20170407T183000
DTEND;TZID=Europe/London:20170407T213000
DTSTAMP:20260419T160206
CREATED:20170221T150905Z
LAST-MODIFIED:20170403T104430Z
UID:2327-1491589800-1491600600@www.pulsepursuits.co.uk
SUMMARY:DirtRun All Saints Hillclimb!
DESCRIPTION:Got hill speed in those legs??? \nJoin us for a lovely jaunt to the top of Ankerdine Hill\, and back ! \nRace distance 5.5km \nBOOK YOUR PLACE\nAs part of the All Saints Beer Festival\, being held at The Talbot at Knightwick. \nThe route features a mixture of gravel track\, tarmac\, woodland tracks and fields\, with some spectacular views of the Worcestershire hills. \nMinimum age 15 years on race day. \nEntry fee £12 advance (£15 on the day) \nMedal and FREE bottle of Teme Valley Brewery ale for all finishers. \n\nThe event supports St Richards Hospice with £1 from every entry fee going straight to the charity \nCar parking is free \, and you are encouraged to stay and enjoy a few drinks and food\, as part of the popular All Saints Beer Festival \nRACE STARTS 18:45 \nREGISTRATION 17:45-18:30
URL:https://www.pulsepursuits.co.uk/events/dirtrun-all-saints-hillclimb/
LOCATION:Teme Valley Brewery\, WR6 5PH
CATEGORIES:Dirt Run
ATTACH;FMTTYPE=image/jpeg:https://www.pulsepursuits.co.uk/wp-content/uploads/2017/02/TEME.jpg
END:VEVENT
END:VCALENDAR