BEGIN:VCALENDAR
VERSION:2.0
PRODID:-//Pulse Events - ECPv5.8.1//NONSGML v1.0//EN
CALSCALE:GREGORIAN
METHOD:PUBLISH
X-WR-CALNAME:Pulse Events
X-ORIGINAL-URL:https://www.pulsepursuits.co.uk
X-WR-CALDESC:Events for Pulse Events
BEGIN:VTIMEZONE
TZID:Europe/London
BEGIN:DAYLIGHT
TZOFFSETFROM:+0000
TZOFFSETTO:+0100
TZNAME:BST
DTSTART:20170326T010000
END:DAYLIGHT
BEGIN:STANDARD
TZOFFSETFROM:+0100
TZOFFSETTO:+0000
TZNAME:GMT
DTSTART:20171029T010000
END:STANDARD
END:VTIMEZONE
BEGIN:VEVENT
DTSTART;VALUE=DATE:20170514
DTEND;VALUE=DATE:20170515
DTSTAMP:20260419T160444
CREATED:20170103T162512Z
LAST-MODIFIED:20170212T133653Z
UID:2091-1494720000-1494806399@www.pulsepursuits.co.uk
SUMMARY:DirtRun 5-Star Series Round 4 - Croome Court
DESCRIPTION:Round 4 of the DirtRun 5 Star Series 2017 \nBOOK YOUR PLACE\nBOOK YOUR PLACE FOR THE SERIES\nRound 4 of the DirtRun 5 Star Series 2017 \nThe event takes place at National Trust Croome Court\, near Kempsey\, Worcestershire. \nA 10km / 5km off-road senior and youths route (2.8k junior route) will take runners through tunnels\, tracks\, fields and bridges across the awesome grounds of Croome\, designed by Capability Brown\, his first large scale commission\n\nParents may run with their children in the junior run\, at no extra cost.\n\nJUNIOR RACE 09:00 (£5 entry fee)\nYOUTH & SENIOR RACES 09:30 (£10 youth / £14 senior 5k/ £18 senior 10k entry fee)\n\nCategory prizes on offer\, including real ale courtesy of sponsor’s Teme Valley Brewery\n\nFinish goodies and medal for all competitors.\n\nThe event supports St Richards Hospice \n£1 from all SENIOR entry fees will be donated direct to charity. Participants may make additional voluntary contributions as desired on the on-line entry page.\n\nFind out more about Croome Court\nREGISTRATION CLOSES 08:45 for the junior race\, and 09:15 for the youth / senior races \nJUNIOR RACE OPEN TO 4-11 yr olds. YOUTH RACE 12-15 yrs. MINIMUM AGE FOR SENIOR RACE ON RACE DAY – 16 years \n  \nLIMITED PLACES – 250 RUNNERS LIMIT (Total across all races)
URL:https://www.pulsepursuits.co.uk/events/dirtrun-5-star-series-round-4-croome-court/
LOCATION:NT Croome\, WR8 9DW
CATEGORIES:Dirt Run
ATTACH;FMTTYPE=image/jpeg:https://www.pulsepursuits.co.uk/wp-content/uploads/2016/12/5Star17-Square.jpg
END:VEVENT
END:VCALENDAR